BEGIN:VCALENDAR
VERSION:2.0
PRODID:-//hacksw/handcal//NONSGML v1.0//EN
CALSCALE:GREGORIAN
BEGIN:VEVENT
DTSTART:20240806T000000Z
DTEND:20240809T000000Z
SUMMARY:IWF
LOCATION:Atlanta\, USA
DESCRIPTION:La Feria Internacional de la Madera (IWF) es uno de los principales eventos del mundo para el trabajo de la madera en general y a medida\, y muestra las últimas soluciones en carpintería arquitectónica\, ebanistería\, suelos\, fabricación de muebles\, productos de ingeniería\, puertas\, ventanas\, maquinaria\, herramientas\, metales\, plásticos y mucho más. La IWF se celebra desde hace más de 50 años y es el lugar donde la industria de la madera hace negocios.

&nbsp\;
URL;VALUE=URI:https://www.iwfatlanta.com
DTSTAMP:20260424T115912Z
UID:69eb5b109e369
END:VEVENT
END:VCALENDAR